BEGIN:VCALENDAR
VERSION:2.0
PRODID:-//hacksw/handcal//NONSGML v1.0//EN
BEGIN:VEVENT
UID:BAROQUE-EVENT-150
DTSTAMP:20220801T045900Z
ORGANIZER;CN=Baroque.org:MAILTO:baroque@baroque.org
LOCATION:On Demand, 
URL:/Seasons/2021-2022/mcgill-plays-mozart
DTSTART:20220801T045900Z
DTEND:20220801T065900Z
SUMMARY:McGill Plays Mozart concert
END:VEVENT
END:VCALENDAR