BEGIN:VCALENDAR
VERSION:2.0
PRODID:-//hacksw/handcal//NONSGML v1.0//EN
BEGIN:VEVENT
UID:BAROQUE-EVENT-205
DTSTAMP:20240419T220000Z
ORGANIZER;CN=Baroque.org:MAILTO:baroque@baroque.org
LOCATION:On Demand, 
URL:/Seasons/2023-2024/birds-frogs-crickets-dogs
DTSTART:20240419T220000Z
DTEND:20240420T000000Z
SUMMARY:Birds, Frogs, Crickets, & Dogs concert
END:VEVENT
END:VCALENDAR