BEGIN:VCALENDAR
VERSION:2.0
PRODID:-//hacksw/handcal//NONSGML v1.0//EN
BEGIN:VEVENT
UID:BAROQUE-EVENT-226
DTSTAMP:20250131T230000Z
ORGANIZER;CN=Baroque.org:MAILTO:baroque@baroque.org
LOCATION:On Demand, 
URL:/Seasons/2024-2025/minkowski-conducts
DTSTART:20250131T230000Z
DTEND:20250201T010000Z
SUMMARY:Minkowski Conducts concert
END:VEVENT
END:VCALENDAR