BEGIN:VCALENDAR
VERSION:2.0
PRODID:-//hacksw/handcal//NONSGML v1.0//EN
BEGIN:VEVENT
UID:BAROQUE-EVENT-53
DTSTAMP:20180225T210000Z
ORGANIZER;CN=Baroque.org:MAILTO:baroque@baroque.org
LOCATION:North Shore Center, Skokie
URL:/Seasons/2017-2018/esther
DTSTART:20180225T210000Z
DTEND:20180225T230000Z
SUMMARY:Handel's Esther concert
END:VEVENT
END:VCALENDAR